BEGIN:VCALENDAR
VERSION:2.0
PRODID:-//hacksw/handcal//NONSGML v1.0//EN
BEGIN:VEVENT
SUMMARY:Coupe du Jeune officiel arbitre et commissaire sportif - Pitres (27)
UID:5778a3db-6431-47be-9ddd-f47366479f3e
DTSTART:20260425T063000Z
DTEND:20260425T150000Z
LOCATION:Localisation Dojo Henri Fercop - Judo Club de Pitres - Le stade 27700 Pitres
CATEGORIES:Sportif
STATUS:
DESCRIPTION:<p><span style="font-size:11pt;"><span
 style="font-family:Arial, sans-serif;"><b>COUPE DU JEUNE OFFICIEL
 MINIMES ARBITRE ET COMMISSAIRE
 SPORTIF</b></span></span></p>
 
 <p><span style="font-size:11pt;"><span
 style="font-family:Arial, sans-serif;"><b>Selection pour la Coupe de
 France par equipe de departement</b></span></span></p>
URL;VALUE=URI:https://www.judoclubgaillon.fr/evenements/2026/04/25/coupe-du-jeune-officiel-arbitre-et-commissaire-sportif-pitres-27-2439296
END:VEVENT
END:VCALENDAR
