BEGIN:VCALENDAR
VERSION:2.0
PRODID:-//hacksw/handcal//NONSGML v1.0//EN
BEGIN:VEVENT
SUMMARY:Coupe de l'Eure Benjamins - Pitres (27)
UID:d4c5fe15-1a0a-429d-98db-c96e2bd7580f
DTSTART:20260425T070000Z
DTEND:20260425T150000Z
LOCATION:Localisation Dojo Henri Fercop - Judo Club de Pitres - Le stade 27700 Pitres
CATEGORIES:Sportif
STATUS:
DESCRIPTION:<p><span style="font-size:11pt;"><span
 style="font-family:Arial, sans-serif;"><b><span
 style="color:#0070c0;">Inscription obligatoire via
 Extranet.</span></b></span></span></p>
 
 <p><span
 style="font-size:11pt;"><span style="font-family:Arial,
 sans-serif;"><b><span style="color:#0070c0;">Se rapprocher de votre
 Professeur.</span></b></span></span></p>
 
 <p><span
 style="font-size:11pt;"><span style="font-family:Arial,
 sans-serif;"><b><span style="color:#ee0000;">Date limite
 d’inscription : jeudi 23 avril
 2026.</span></b></span></span></p>
 
 <p><span
 style="font-size:11pt;"><span style="font-family:Arial,
 sans-serif;"><b><u>Horaires des
 pesees</u> :</b></span></span></p>
 
 <p><span
 style="font-size:11pt;"><span style="font-family:Arial,
 sans-serif;"><b>Masculins :</b></span></span></p>
 
 <ul>
 	<li><span
 style="font-size:11pt;"><span style="font-family:Arial,
 sans-serif;"><b>- 40 kg (ceinture jaune mini) :       
                         09h00 /
 09h30</b></span></span></li>
 	<li><span style="font-size:11pt;"><span
 style="font-family:Arial, sans-serif;"><b>+ 40 kg (ceinture jaune
 mini) :                              
 11h00 / 11h30</b></span></span></li>
 </ul>
 
 <p><span
 style="font-size:11pt;"><span style="font-family:Arial,
 sans-serif;"><b>Feminines :</b></span></span></p>
 
 <ul>
 	<li><span
 style="font-size:11pt;"><span style="font-family:Arial,
 sans-serif;"><b>Toutes categories (ceinture jaune mini)
  :            14h00 /
 14h30</b></span></span></li>
 </ul>
 
 <p><span
 style="font-size:11pt;"><span style="font-family:Arial,
 sans-serif;"><b>Masculins & Feminines (1 timbre) :           
                      14h00 / 14h30</b></span></span></p>
URL;VALUE=URI:https://www.judoclubgaillon.fr/evenements/2026/04/25/coupe-de-leure-benjamins-pitres-27-2432282
END:VEVENT
END:VCALENDAR
