BEGIN:VCALENDAR
VERSION:2.0
PRODID:-//hacksw/handcal//NONSGML v1.0//EN
BEGIN:VEVENT
SUMMARY:Ceintures de Couleurs - Les Andelys (27)
UID:3f598c78-9dad-4525-ba0e-fff577abc89a
DTSTART:20260411T070000Z
DTEND:20260411T120000Z
LOCATION:Localisation Gymnase Henri Boyer, Rue Henri Raymond Phelip 27700 Les Andelys
CATEGORIES:Sportif
STATUS:
DESCRIPTION:<p><span style="font-size:11pt;"><span
 style="font-family:Arial, sans-serif;"><b><span
 style="color:#0070c0;">Inscription obligatoire via
 Extranet.</span></b></span></span></p>
 
 <p><span
 style="font-size:11pt;"><span style="font-family:Arial,
 sans-serif;"><b><span style="color:#0070c0;">Se rapprocher de votre
 Professeur.</span></b></span></span></p>
 
 <p><span
 style="font-size:11pt;"><span style="font-family:Arial,
 sans-serif;"><b><span style="color:#ee0000;">Date limite
 d’inscription : jeudi 9 avril
 2026.</span></b></span></span></p>
 
 <p><span
 style="font-size:11pt;"><span style="font-family:Arial,
 sans-serif;"><b><u>Horaires des
 pesees</u> :</b></span></span></p>
 
 <p><span
 style="font-size:11pt;"><span style="font-family:Arial,
 sans-serif;"><b>Masculins :</b></span></span></p>
 
 <ul>
 	<li><span
 style="font-size:11pt;"><span style="font-family:Arial,
 sans-serif;"><b>Bleue / Marron :                  
 09h00 / 09h30</b></span></span></li>
 	<li><span
 style="font-size:11pt;"><span style="font-family:Arial,
 sans-serif;"><b>Orange /
 Verte :                    10h30 /
 11h00</b></span></span></li>
 </ul>
 
 <p><span
 style="font-size:11pt;"><span style="font-family:Arial,
 sans-serif;"><b>Feminines :</b></span></span></p>
 
 <ul>
 	<li><span
 style="font-size:11pt;"><span style="font-family:Arial,
 sans-serif;"><b>Toutes categories :              10h30 /
 11h00</b></span></span></li>
 </ul>
URL;VALUE=URI:https://www.judoclubgaillon.fr/evenements/2026/04/11/ceintures-de-couleurs-les-andelys-27-2432279
END:VEVENT
END:VCALENDAR
